BEGIN:VCALENDAR
VERSION:2.0
PRODID:-//The Storyteller Squad - ECPv6.15.20//NONSGML v1.0//EN
CALSCALE:GREGORIAN
METHOD:PUBLISH
X-WR-CALNAME:The Storyteller Squad
X-ORIGINAL-URL:https://thestorytellersquad.com
X-WR-CALDESC:Events for The Storyteller Squad
REFRESH-INTERVAL;VALUE=DURATION:PT1H
X-Robots-Tag:noindex
X-PUBLISHED-TTL:PT1H
BEGIN:VTIMEZONE
TZID:America/New_York
BEGIN:DAYLIGHT
TZOFFSETFROM:-0500
TZOFFSETTO:-0400
TZNAME:EDT
DTSTART:20250309T070000
END:DAYLIGHT
BEGIN:STANDARD
TZOFFSETFROM:-0400
TZOFFSETTO:-0500
TZNAME:EST
DTSTART:20251102T060000
END:STANDARD
BEGIN:DAYLIGHT
TZOFFSETFROM:-0500
TZOFFSETTO:-0400
TZNAME:EDT
DTSTART:20260308T070000
END:DAYLIGHT
BEGIN:STANDARD
TZOFFSETFROM:-0400
TZOFFSETTO:-0500
TZNAME:EST
DTSTART:20261101T060000
END:STANDARD
BEGIN:DAYLIGHT
TZOFFSETFROM:-0500
TZOFFSETTO:-0400
TZNAME:EDT
DTSTART:20270314T070000
END:DAYLIGHT
BEGIN:STANDARD
TZOFFSETFROM:-0400
TZOFFSETTO:-0500
TZNAME:EST
DTSTART:20271107T060000
END:STANDARD
END:VTIMEZONE
BEGIN:VEVENT
DTSTART;TZID=America/New_York:20260410T190000
DTEND;TZID=America/New_York:20260410T190000
DTSTAMP:20260423T171920
CREATED:20260422T212856Z
LAST-MODIFIED:20260422T212856Z
UID:5734-1775847600-1775847600@thestorytellersquad.com
SUMMARY:Digital Premiere: Episode 84 Family Reunion
DESCRIPTION:Raven and Aidan host a gathering of friends and family at their cozy apartment in Autumn Falls\, but a reunion of Aidan’s friends from across her immortal lifetime is going to mean some interesting characters show up to dinner. In our “Dragons & Dinner Parties” Arc\, Natalie and Brittany are joined by several guest cast for perhaps our most literal exploration of found family storytelling we’ve done yet. It’s good to be back Adventurers~!\n 
URL:https://thestorytellersquad.com/mission/episode-84-family-reunion/
LOCATION:All Streaming Platforms
CATEGORIES:Podcast Episode Premiere,Virtual
ATTACH;FMTTYPE=image/jpeg:https://thestorytellersquad.com/wp-content/uploads/2024/03/TSS_HeroImageFINAL-scaled.jpg
END:VEVENT
END:VCALENDAR